BEGIN:VCALENDAR
VERSION:2.0
PRODID:-//Whitehorse Netball Association - ECPv4.6.23//NONSGML v1.0//EN
CALSCALE:GREGORIAN
METHOD:PUBLISH
X-WR-CALNAME:Whitehorse Netball Association
X-ORIGINAL-URL:https://whitehorsenetball.org.au
X-WR-CALDESC:Events for Whitehorse Netball Association
BEGIN:VEVENT
DTSTART;TZID=Australia/Melbourne:20190211T170000
DTEND;TZID=Australia/Melbourne:20190211T180000
DTSTAMP:20190227T225000
CREATED:20190201T033708Z
LAST-MODIFIED:20190201T033708Z
UID:2138-1549904400-1549908000@whitehorsenetball.org.au
SUMMARY:Monday GO - FREE Coach Clinic
DESCRIPTION:Whitehorse Netball is running a FREE Coach clinic for all GO Coaches. \nNo need to RSVP\, just turn up on the day. \nInterested parents are welcome to attend.  Beginner Saturday coaches are also welcome to attend however the focus will be on the Monday GO program and the modified rules. \n
URL:https://whitehorsenetball.org.au/event/monday-go-free-coach-clinic/
LOCATION:Sportlink\, 2 Hanover Road \, VERMONT SOUTH\, VIC\, 3133\, Australia
CATEGORIES:Clinics | Courses,Monday GO
END:VEVENT
BEGIN:VEVENT
DTSTART;TZID=Australia/Melbourne:20190216T080000
DTEND;TZID=Australia/Melbourne:20190216T163000
DTSTAMP:20190227T225000
CREATED:20190213T050055Z
LAST-MODIFIED:20190213T050055Z
UID:2180-1550304000-1550334600@whitehorsenetball.org.au
SUMMARY:Community Market Day
DESCRIPTION:Whitehorse Netball will be holding our annual “Community Market Day’ on Round 2\, Saturday 16th February.  Keep an eye on our facebook page for further updates and supplier details. \n
URL:https://whitehorsenetball.org.au/event/community-market-day-4/
LOCATION:Sportlink\, 2 Hanover Road \, VERMONT SOUTH\, VIC\, 3133\, Australia
CATEGORIES:Saturday
END:VEVENT
END:VCALENDAR